BEGIN:VCALENDAR
PRODID:http://www.kufer.de/kuferweb / DE
VERSION:2.0
METHOD:PUBLISH
CALSCALE:GREGORIAN
X-WR-TIMEZONE:Europe/Berlin
BEGIN:VTIMEZONE
TZID:Europe/Berlin
X-LIC-LOCATION:Europe/Berlin
BEGIN:DAYLIGHT
TZOFFSETFROM:+0100
TZOFFSETTO:+0200
TZNAME:CEST
DTSTART;TZID=Europe/Berlin:19700329T020000
RRULE:FREQ=YEARLY;INTERVAL=1;BYDAY=-1SU;BYMONTH=3
END:DAYLIGHT
BEGIN:STANDARD
TZOFFSETFROM:+0200
TZOFFSETTO:+0100
TZNAME:CET
DTSTART;TZID=Europe/Berlin:19701025T030000
RRULE:FREQ=YEARLY;INTERVAL=1;BYDAY=-1SU;BYMONTH=10
END:STANDARD
END:VTIMEZONE
BEGIN:VEVENT
DTSTAMP:20260419T205109
DTSTART;TZID=Europe/Berlin:20260514T100000
DTEND;TZID=Europe/Berlin:20260514T180000
UID:TN51000-26-20260514T100000@EFBHAGEN
SUMMARY:Vater-Kind-Zeit 2026 (TN51000-26) 
LOCATION:Natur Camping, Hof Köninck, Veltrup 10, 48565 Steinfurt
END:VEVENT
BEGIN:VEVENT
DTSTAMP:20260419T205109
DTSTART;TZID=Europe/Berlin:20260515T100000
DTEND;TZID=Europe/Berlin:20260515T180000
UID:TN51000-26-20260515T100000@EFBHAGEN
SUMMARY:Vater-Kind-Zeit 2026 (TN51000-26) 
LOCATION:Natur Camping, Hof Köninck, Veltrup 10, 48565 Steinfurt
END:VEVENT
BEGIN:VEVENT
DTSTAMP:20260419T205109
DTSTART;TZID=Europe/Berlin:20260516T100000
DTEND;TZID=Europe/Berlin:20260516T180000
UID:TN51000-26-20260516T100000@EFBHAGEN
SUMMARY:Vater-Kind-Zeit 2026 (TN51000-26) 
LOCATION:Natur Camping, Hof Köninck, Veltrup 10, 48565 Steinfurt
END:VEVENT
BEGIN:VEVENT
DTSTAMP:20260419T205109
DTSTART;TZID=Europe/Berlin:20260517T100000
DTEND;TZID=Europe/Berlin:20260517T180000
UID:TN51000-26-20260517T100000@EFBHAGEN
SUMMARY:Vater-Kind-Zeit 2026 (TN51000-26) 
LOCATION:Natur Camping, Hof Köninck, Veltrup 10, 48565 Steinfurt
END:VEVENT
END:VCALENDAR